BEGIN:VCALENDAR
VERSION:2.0
PRODID:-//Avantis College - ECPv6.15.17.1//NONSGML v1.0//EN
CALSCALE:GREGORIAN
METHOD:PUBLISH
X-ORIGINAL-URL:https://www.avantiscollege.nl
X-WR-CALDESC:Evenementen voor Avantis College
REFRESH-INTERVAL;VALUE=DURATION:PT1H
X-Robots-Tag:noindex
X-PUBLISHED-TTL:PT1H
BEGIN:VTIMEZONE
TZID:Europe/Amsterdam
BEGIN:DAYLIGHT
TZOFFSETFROM:+0100
TZOFFSETTO:+0200
TZNAME:CEST
DTSTART:20250330T010000
END:DAYLIGHT
BEGIN:STANDARD
TZOFFSETFROM:+0200
TZOFFSETTO:+0100
TZNAME:CET
DTSTART:20251026T010000
END:STANDARD
BEGIN:DAYLIGHT
TZOFFSETFROM:+0100
TZOFFSETTO:+0200
TZNAME:CEST
DTSTART:20260329T010000
END:DAYLIGHT
BEGIN:STANDARD
TZOFFSETFROM:+0200
TZOFFSETTO:+0100
TZNAME:CET
DTSTART:20261025T010000
END:STANDARD
BEGIN:DAYLIGHT
TZOFFSETFROM:+0100
TZOFFSETTO:+0200
TZNAME:CEST
DTSTART:20270328T010000
END:DAYLIGHT
BEGIN:STANDARD
TZOFFSETFROM:+0200
TZOFFSETTO:+0100
TZNAME:CET
DTSTART:20271031T010000
END:STANDARD
END:VTIMEZONE
BEGIN:VEVENT
DTSTART;VALUE=DATE:20260206
DTEND;VALUE=DATE:20260207
DTSTAMP:20260425T124028
CREATED:20251104T135337Z
LAST-MODIFIED:20251104T135337Z
UID:4230-1770336000-1770422399@www.avantiscollege.nl
SUMMARY:SKILLS Kwalificatiefinale EO/ZW/PIE en MT
DESCRIPTION:
URL:https://www.avantiscollege.nl/gebeurtenis/skills-kwalificatiefinale-eo-zw-pie-en-mt/
END:VEVENT
BEGIN:VEVENT
DTSTART;VALUE=DATE:20260210
DTEND;VALUE=DATE:20260211
DTSTAMP:20260425T124028
CREATED:20251104T143138Z
LAST-MODIFIED:20251104T143138Z
UID:4232-1770681600-1770767999@www.avantiscollege.nl
SUMMARY:MGE leerjaar 2 en ISK Route 2&3
DESCRIPTION:
URL:https://www.avantiscollege.nl/gebeurtenis/mge-leerjaar-2-en-isk-route-23/
END:VEVENT
BEGIN:VEVENT
DTSTART;TZID=Europe/Amsterdam:20260212T184500
DTEND;TZID=Europe/Amsterdam:20260212T210000
DTSTAMP:20260425T124028
CREATED:20251104T143933Z
LAST-MODIFIED:20251104T143933Z
UID:4234-1770921900-1770930000@www.avantiscollege.nl
SUMMARY:Profielkeuzeavond leerjaar 2
DESCRIPTION:
URL:https://www.avantiscollege.nl/gebeurtenis/profielkeuzeavond-leerjaar-2/
END:VEVENT
BEGIN:VEVENT
DTSTART;VALUE=DATE:20260220
DTEND;VALUE=DATE:20260221
DTSTAMP:20260425T124028
CREATED:20251104T145124Z
LAST-MODIFIED:20251104T145124Z
UID:4236-1771545600-1771631999@www.avantiscollege.nl
SUMMARY:deadline profielkeuze leerjaar 2
DESCRIPTION:
URL:https://www.avantiscollege.nl/gebeurtenis/deadline-profielkeuze-leerjaar-2/
END:VEVENT
BEGIN:VEVENT
DTSTART;TZID=Europe/Amsterdam:20260306T100000
DTEND;TZID=Europe/Amsterdam:20260306T163000
DTSTAMP:20260425T124028
CREATED:20251104T145220Z
LAST-MODIFIED:20251104T145220Z
UID:4239-1772791200-1772814600@www.avantiscollege.nl
SUMMARY:Studiedag
DESCRIPTION:
URL:https://www.avantiscollege.nl/gebeurtenis/studiedag-2/
END:VEVENT
BEGIN:VEVENT
DTSTART;VALUE=DATE:20260309
DTEND;VALUE=DATE:20260310
DTSTAMP:20260425T124028
CREATED:20251104T145359Z
LAST-MODIFIED:20251104T145359Z
UID:4241-1773014400-1773100799@www.avantiscollege.nl
SUMMARY:AVANTIS WEEK VMBO Projectweek leerjaar 1 Project en toetsdagen leerjaar 2 Derde...
DESCRIPTION:
URL:https://www.avantiscollege.nl/gebeurtenis/avantis-week-vmbo-projectweek-leerjaar-1-project-en-toetsdagen-leerjaar-2-derde/
END:VEVENT
BEGIN:VEVENT
DTSTART;VALUE=DATE:20260311
DTEND;VALUE=DATE:20260312
DTSTAMP:20260425T124028
CREATED:20251104T145511Z
LAST-MODIFIED:20251104T145511Z
UID:4244-1773187200-1773273599@www.avantiscollege.nl
SUMMARY:Bliksemstage leerjaar 1
DESCRIPTION:
URL:https://www.avantiscollege.nl/gebeurtenis/bliksemstage-leerjaar-1/
END:VEVENT
BEGIN:VEVENT
DTSTART;VALUE=DATE:20260312
DTEND;VALUE=DATE:20260313
DTSTAMP:20260425T124028
CREATED:20251104T145637Z
LAST-MODIFIED:20251104T145637Z
UID:4246-1773273600-1773359999@www.avantiscollege.nl
SUMMARY:Excursies leerjaar 3 LOB
DESCRIPTION:
URL:https://www.avantiscollege.nl/gebeurtenis/excursies-leerjaar-3-lob/
END:VEVENT
BEGIN:VEVENT
DTSTART;TZID=Europe/Amsterdam:20260318T190000
DTEND;TZID=Europe/Amsterdam:20260318T203000
DTSTAMP:20260425T124028
CREATED:20251104T145756Z
LAST-MODIFIED:20251104T145756Z
UID:4248-1773860400-1773865800@www.avantiscollege.nl
SUMMARY:Informatieavond Examens ouders leerjaar 4
DESCRIPTION:
URL:https://www.avantiscollege.nl/gebeurtenis/informatieavond-examens-ouders-leerjaar-4/
END:VEVENT
BEGIN:VEVENT
DTSTART;VALUE=DATE:20260323
DTEND;VALUE=DATE:20260324
DTSTAMP:20260425T124028
CREATED:20251104T145937Z
LAST-MODIFIED:20251104T145937Z
UID:4250-1774224000-1774310399@www.avantiscollege.nl
SUMMARY:Herkansen leerjaar 4
DESCRIPTION:Herkansen leerjaar 4
URL:https://www.avantiscollege.nl/gebeurtenis/herkansen-leerjaar-4/
END:VEVENT
BEGIN:VEVENT
DTSTART;TZID=Europe/Amsterdam:20260323T160000
DTEND;TZID=Europe/Amsterdam:20260323T180000
DTSTAMP:20260425T124028
CREATED:20251104T150050Z
LAST-MODIFIED:20251104T150050Z
UID:4252-1774281600-1774288800@www.avantiscollege.nl
SUMMARY:driehoeksgesprekken leerjaar 1-2-3
DESCRIPTION:
URL:https://www.avantiscollege.nl/gebeurtenis/driehoeksgesprekken-leerjaar-1-2-3/
END:VEVENT
BEGIN:VEVENT
DTSTART;TZID=Europe/Amsterdam:20260324T143000
DTEND;TZID=Europe/Amsterdam:20260324T200000
DTSTAMP:20260425T124028
CREATED:20251104T150147Z
LAST-MODIFIED:20251110T151340Z
UID:4255-1774362600-1774382400@www.avantiscollege.nl
SUMMARY:driehoeksgesprekken leerjaar 1-2-3
DESCRIPTION:
URL:https://www.avantiscollege.nl/gebeurtenis/driehoeksgesprekken-leerjaar-1-2-3-2/
END:VEVENT
BEGIN:VEVENT
DTSTART;TZID=Europe/Amsterdam:20260325T160000
DTEND;TZID=Europe/Amsterdam:20260325T180000
DTSTAMP:20260425T124028
CREATED:20251104T150302Z
LAST-MODIFIED:20251110T151411Z
UID:4257-1774454400-1774461600@www.avantiscollege.nl
SUMMARY:driehoeksgesprekken leerjaar 1-2-3
DESCRIPTION:
URL:https://www.avantiscollege.nl/gebeurtenis/driehoeksgesprekken-leerjaar-1-2-3-3/
END:VEVENT
BEGIN:VEVENT
DTSTART;VALUE=DATE:20260401
DTEND;VALUE=DATE:20260402
DTSTAMP:20260425T124028
CREATED:20251104T150517Z
LAST-MODIFIED:20251104T151415Z
UID:4260-1775001600-1775087999@www.avantiscollege.nl
SUMMARY:Stage leerjaar 3 - 1 april t/m 15 april
DESCRIPTION:Stage leerjaar 3 1 april t/m 15 april
URL:https://www.avantiscollege.nl/gebeurtenis/stage-leerjaar-3-1-april-t-m-15-april/
END:VEVENT
BEGIN:VEVENT
DTSTART;VALUE=DATE:20260401
DTEND;VALUE=DATE:20260402
DTSTAMP:20260425T124028
CREATED:20251110T152732Z
LAST-MODIFIED:20251110T152732Z
UID:4266-1775001600-1775087999@www.avantiscollege.nl
SUMMARY:START CSPE Basis/kader/GL
DESCRIPTION:START CSPE Basis/kader/GL
URL:https://www.avantiscollege.nl/gebeurtenis/start-cspe-basis-kader-gl/
END:VEVENT
BEGIN:VEVENT
DTSTART;VALUE=DATE:20260410
DTEND;VALUE=DATE:20260411
DTSTAMP:20260425T124028
CREATED:20251110T152831Z
LAST-MODIFIED:20251110T152831Z
UID:4268-1775779200-1775865599@www.avantiscollege.nl
SUMMARY:Laatste Herkansingen leerjaar 4
DESCRIPTION:
URL:https://www.avantiscollege.nl/gebeurtenis/laatste-herkansingen-leerjaar-4/
END:VEVENT
BEGIN:VEVENT
DTSTART;VALUE=DATE:20260416
DTEND;VALUE=DATE:20260417
DTSTAMP:20260425T124028
CREATED:20251110T153006Z
LAST-MODIFIED:20251110T153006Z
UID:4270-1776297600-1776383999@www.avantiscollege.nl
SUMMARY:STO Regiofinale Challenge leerjaar 1
DESCRIPTION:
URL:https://www.avantiscollege.nl/gebeurtenis/sto-regiofinale-challenge-leerjaar-1/
END:VEVENT
BEGIN:VEVENT
DTSTART;VALUE=DATE:20260417
DTEND;VALUE=DATE:20260418
DTSTAMP:20260425T124028
CREATED:20251110T153100Z
LAST-MODIFIED:20251110T153100Z
UID:4272-1776384000-1776470399@www.avantiscollege.nl
SUMMARY:Laatste dag CSPE | Laatste dag Stage leerjaar 3
DESCRIPTION:
URL:https://www.avantiscollege.nl/gebeurtenis/laatste-dag-cspe-laatste-dag-stage-leerjaar-3/
END:VEVENT
BEGIN:VEVENT
DTSTART;VALUE=DATE:20260421
DTEND;VALUE=DATE:20260422
DTSTAMP:20260425T124028
CREATED:20251110T153212Z
LAST-MODIFIED:20251110T153212Z
UID:4276-1776729600-1776815999@www.avantiscollege.nl
SUMMARY:Schoolreisje leerjaar 4
DESCRIPTION:
URL:https://www.avantiscollege.nl/gebeurtenis/schoolreisje-leerjaar-4/
END:VEVENT
BEGIN:VEVENT
DTSTART;VALUE=DATE:20260507
DTEND;VALUE=DATE:20260508
DTSTAMP:20260425T124028
CREATED:20251110T153314Z
LAST-MODIFIED:20251110T153314Z
UID:4278-1778112000-1778198399@www.avantiscollege.nl
SUMMARY:Start CE Basis en Kader en GTL
DESCRIPTION:
URL:https://www.avantiscollege.nl/gebeurtenis/start-ce-basis-en-kader-en-gtl/
END:VEVENT
BEGIN:VEVENT
DTSTART;TZID=Europe/Amsterdam:20260508T133000
DTEND;TZID=Europe/Amsterdam:20260508T153000
DTSTAMP:20260425T124028
CREATED:20251110T153424Z
LAST-MODIFIED:20251110T153424Z
UID:4280-1778247000-1778254200@www.avantiscollege.nl
SUMMARY:CE GTL Wiskunde
DESCRIPTION:
URL:https://www.avantiscollege.nl/gebeurtenis/ce-gtl-wiskunde/
END:VEVENT
BEGIN:VEVENT
DTSTART;TZID=Europe/Amsterdam:20260511T133000
DTEND;TZID=Europe/Amsterdam:20260511T153000
DTSTAMP:20260425T124028
CREATED:20251110T153521Z
LAST-MODIFIED:20251110T153521Z
UID:4283-1778506200-1778513400@www.avantiscollege.nl
SUMMARY:CE GTL Nederlands
DESCRIPTION:
URL:https://www.avantiscollege.nl/gebeurtenis/ce-gtl-nederlands/
END:VEVENT
BEGIN:VEVENT
DTSTART;TZID=Europe/Amsterdam:20260513T133000
DTEND;TZID=Europe/Amsterdam:20260513T153000
DTSTAMP:20260425T124028
CREATED:20251110T153616Z
LAST-MODIFIED:20251110T153616Z
UID:4286-1778679000-1778686200@www.avantiscollege.nl
SUMMARY:CE GTL Economie
DESCRIPTION:
URL:https://www.avantiscollege.nl/gebeurtenis/ce-gtl-economie/
END:VEVENT
BEGIN:VEVENT
DTSTART;TZID=Europe/Amsterdam:20260518T090000
DTEND;TZID=Europe/Amsterdam:20260518T110000
DTSTAMP:20260425T124028
CREATED:20251110T153712Z
LAST-MODIFIED:20251110T153712Z
UID:4289-1779094800-1779102000@www.avantiscollege.nl
SUMMARY:CE GTL Duits
DESCRIPTION:
URL:https://www.avantiscollege.nl/gebeurtenis/ce-gtl-duits/
END:VEVENT
BEGIN:VEVENT
DTSTART;TZID=Europe/Amsterdam:20260518T133000
DTEND;TZID=Europe/Amsterdam:20260518T153000
DTSTAMP:20260425T124028
CREATED:20251110T153800Z
LAST-MODIFIED:20251110T153800Z
UID:4292-1779111000-1779118200@www.avantiscollege.nl
SUMMARY:CE GTL NASK1
DESCRIPTION:
URL:https://www.avantiscollege.nl/gebeurtenis/ce-gtl-nask1/
END:VEVENT
BEGIN:VEVENT
DTSTART;TZID=Europe/Amsterdam:20260519T090000
DTEND;TZID=Europe/Amsterdam:20260519T110000
DTSTAMP:20260425T124028
CREATED:20251110T153936Z
LAST-MODIFIED:20251110T153936Z
UID:4295-1779181200-1779188400@www.avantiscollege.nl
SUMMARY:CE GTL MASK
DESCRIPTION:
URL:https://www.avantiscollege.nl/gebeurtenis/ce-gtl-mask/
END:VEVENT
BEGIN:VEVENT
DTSTART;TZID=Europe/Amsterdam:20260519T133000
DTEND;TZID=Europe/Amsterdam:20260519T153000
DTSTAMP:20260425T124028
CREATED:20251110T154029Z
LAST-MODIFIED:20251110T154029Z
UID:4297-1779197400-1779204600@www.avantiscollege.nl
SUMMARY:CE GTL Engels
DESCRIPTION:
URL:https://www.avantiscollege.nl/gebeurtenis/ce-gtl-engels/
END:VEVENT
BEGIN:VEVENT
DTSTART;TZID=Europe/Amsterdam:20260520T133000
DTEND;TZID=Europe/Amsterdam:20260520T153000
DTSTAMP:20260425T124028
CREATED:20251110T154118Z
LAST-MODIFIED:20251110T154118Z
UID:4299-1779283800-1779291000@www.avantiscollege.nl
SUMMARY:CE GTL Biologie
DESCRIPTION:
URL:https://www.avantiscollege.nl/gebeurtenis/ce-gtl-biologie/
END:VEVENT
BEGIN:VEVENT
DTSTART;TZID=Europe/Amsterdam:20260608T090000
DTEND;TZID=Europe/Amsterdam:20260608T110000
DTSTAMP:20260425T124028
CREATED:20251110T154229Z
LAST-MODIFIED:20251110T154229Z
UID:4302-1780909200-1780916400@www.avantiscollege.nl
SUMMARY:Jaarherkansing Maatschappijleer
DESCRIPTION:
URL:https://www.avantiscollege.nl/gebeurtenis/jaarherkansing-maatschappijleer/
END:VEVENT
BEGIN:VEVENT
DTSTART;VALUE=DATE:20260609
DTEND;VALUE=DATE:20260610
DTSTAMP:20260425T124028
CREATED:20251110T154323Z
LAST-MODIFIED:20251110T154323Z
UID:4304-1780963200-1781049599@www.avantiscollege.nl
SUMMARY:Start Toetsweek leerjaar 3
DESCRIPTION:
URL:https://www.avantiscollege.nl/gebeurtenis/start-toetsweek-leerjaar-3/
END:VEVENT
END:VCALENDAR