BEGIN:VCALENDAR
VERSION:2.0
PRODID:-//Avantis College - ECPv6.15.17.1//NONSGML v1.0//EN
CALSCALE:GREGORIAN
METHOD:PUBLISH
X-WR-CALNAME:Avantis College
X-ORIGINAL-URL:https://www.avantiscollege.nl
X-WR-CALDESC:Evenementen voor Avantis College
REFRESH-INTERVAL;VALUE=DURATION:PT1H
X-Robots-Tag:noindex
X-PUBLISHED-TTL:PT1H
BEGIN:VTIMEZONE
TZID:Europe/Amsterdam
BEGIN:DAYLIGHT
TZOFFSETFROM:+0100
TZOFFSETTO:+0200
TZNAME:CEST
DTSTART:20250330T010000
END:DAYLIGHT
BEGIN:STANDARD
TZOFFSETFROM:+0200
TZOFFSETTO:+0100
TZNAME:CET
DTSTART:20251026T010000
END:STANDARD
BEGIN:DAYLIGHT
TZOFFSETFROM:+0100
TZOFFSETTO:+0200
TZNAME:CEST
DTSTART:20260329T010000
END:DAYLIGHT
BEGIN:STANDARD
TZOFFSETFROM:+0200
TZOFFSETTO:+0100
TZNAME:CET
DTSTART:20261025T010000
END:STANDARD
BEGIN:DAYLIGHT
TZOFFSETFROM:+0100
TZOFFSETTO:+0200
TZNAME:CEST
DTSTART:20270328T010000
END:DAYLIGHT
BEGIN:STANDARD
TZOFFSETFROM:+0200
TZOFFSETTO:+0100
TZNAME:CET
DTSTART:20271031T010000
END:STANDARD
END:VTIMEZONE
BEGIN:VEVENT
DTSTART;VALUE=DATE:20260629
DTEND;VALUE=DATE:20260630
DTSTAMP:20260425T174439
CREATED:20251110T154903Z
LAST-MODIFIED:20251110T154903Z
UID:4327-1782691200-1782777599@www.avantiscollege.nl
SUMMARY:Mentoruitje leerjaar 1-2-3
DESCRIPTION:
URL:https://www.avantiscollege.nl/gebeurtenis/mentoruitje-leerjaar-1-2-3/
END:VEVENT
BEGIN:VEVENT
DTSTART;TZID=Europe/Amsterdam:20260701T160000
DTEND;TZID=Europe/Amsterdam:20260701T220000
DTSTAMP:20260425T174439
CREATED:20251110T155012Z
LAST-MODIFIED:20251110T155012Z
UID:4330-1782921600-1782943200@www.avantiscollege.nl
SUMMARY:DIPLOMA UITRIJKING
DESCRIPTION:
URL:https://www.avantiscollege.nl/gebeurtenis/diploma-uitrijking/
END:VEVENT
BEGIN:VEVENT
DTSTART;VALUE=DATE:20260703
DTEND;VALUE=DATE:20260704
DTSTAMP:20260425T174439
CREATED:20251110T155104Z
LAST-MODIFIED:20251110T155104Z
UID:4332-1783036800-1783123199@www.avantiscollege.nl
SUMMARY:Afronden schooljaar - rapport uitdelen
DESCRIPTION:
URL:https://www.avantiscollege.nl/gebeurtenis/afronden-schooljaar-rapport-uitdelen/
END:VEVENT
END:VCALENDAR