BEGIN:VCALENDAR
VERSION:2.0
PRODID:-//Avantis College - ECPv6.15.17.1//NONSGML v1.0//EN
CALSCALE:GREGORIAN
METHOD:PUBLISH
X-WR-CALNAME:Avantis College
X-ORIGINAL-URL:https://www.avantiscollege.nl
X-WR-CALDESC:Evenementen voor Avantis College
REFRESH-INTERVAL;VALUE=DURATION:PT1H
X-Robots-Tag:noindex
X-PUBLISHED-TTL:PT1H
BEGIN:VTIMEZONE
TZID:Europe/Amsterdam
BEGIN:DAYLIGHT
TZOFFSETFROM:+0100
TZOFFSETTO:+0200
TZNAME:CEST
DTSTART:20230326T010000
END:DAYLIGHT
BEGIN:STANDARD
TZOFFSETFROM:+0200
TZOFFSETTO:+0100
TZNAME:CET
DTSTART:20231029T010000
END:STANDARD
BEGIN:DAYLIGHT
TZOFFSETFROM:+0100
TZOFFSETTO:+0200
TZNAME:CEST
DTSTART:20240331T010000
END:DAYLIGHT
BEGIN:STANDARD
TZOFFSETFROM:+0200
TZOFFSETTO:+0100
TZNAME:CET
DTSTART:20241027T010000
END:STANDARD
BEGIN:DAYLIGHT
TZOFFSETFROM:+0100
TZOFFSETTO:+0200
TZNAME:CEST
DTSTART:20250330T010000
END:DAYLIGHT
BEGIN:STANDARD
TZOFFSETFROM:+0200
TZOFFSETTO:+0100
TZNAME:CET
DTSTART:20251026T010000
END:STANDARD
BEGIN:DAYLIGHT
TZOFFSETFROM:+0100
TZOFFSETTO:+0200
TZNAME:CEST
DTSTART:20260329T010000
END:DAYLIGHT
BEGIN:STANDARD
TZOFFSETFROM:+0200
TZOFFSETTO:+0100
TZNAME:CET
DTSTART:20261025T010000
END:STANDARD
END:VTIMEZONE
BEGIN:VEVENT
DTSTART;TZID=Europe/Amsterdam:20250303T141500
DTEND;TZID=Europe/Amsterdam:20250303T141500
DTSTAMP:20260425T164145
CREATED:20250122T112403Z
LAST-MODIFIED:20250122T112403Z
UID:3331-1741011300-1741011300@www.avantiscollege.nl
SUMMARY:DOE-middag groep 8
DESCRIPTION:
URL:https://www.avantiscollege.nl/gebeurtenis/doe-middag-groep-8-4/
END:VEVENT
BEGIN:VEVENT
DTSTART;TZID=Europe/Amsterdam:20250227T190000
DTEND;TZID=Europe/Amsterdam:20250227T203000
DTSTAMP:20260425T164145
CREATED:20250122T112403Z
LAST-MODIFIED:20250122T112403Z
UID:3330-1740682800-1740688200@www.avantiscollege.nl
SUMMARY:Informatieavond groep 8
DESCRIPTION:
URL:https://www.avantiscollege.nl/gebeurtenis/informatieavond-groep-8/
END:VEVENT
BEGIN:VEVENT
DTSTART;TZID=Europe/Amsterdam:20250226T190000
DTEND;TZID=Europe/Amsterdam:20250226T203000
DTSTAMP:20260425T164145
CREATED:20250122T112612Z
LAST-MODIFIED:20250122T112612Z
UID:3356-1740596400-1740601800@www.avantiscollege.nl
SUMMARY:Lj 4 PWS avond
DESCRIPTION:
URL:https://www.avantiscollege.nl/gebeurtenis/lj-4-pws-avond/
END:VEVENT
BEGIN:VEVENT
DTSTART;TZID=Europe/Amsterdam:20250226T141500
DTEND;TZID=Europe/Amsterdam:20250226T154500
DTSTAMP:20260425T164145
CREATED:20250122T112403Z
LAST-MODIFIED:20250122T112403Z
UID:3329-1740579300-1740584700@www.avantiscollege.nl
SUMMARY:DOE-middag groep 8
DESCRIPTION:
URL:https://www.avantiscollege.nl/gebeurtenis/doe-middag-groep-8-3/
END:VEVENT
BEGIN:VEVENT
DTSTART;TZID=Europe/Amsterdam:20250225T170000
DTEND;TZID=Europe/Amsterdam:20250225T183000
DTSTAMP:20260425T164145
CREATED:20250122T112348Z
LAST-MODIFIED:20250122T112348Z
UID:3323-1740502800-1740508200@www.avantiscollege.nl
SUMMARY:MR
DESCRIPTION:
URL:https://www.avantiscollege.nl/gebeurtenis/mr/
END:VEVENT
BEGIN:VEVENT
DTSTART;TZID=Europe/Amsterdam:20250217T000000
DTEND;TZID=Europe/Amsterdam:20250223T000000
DTSTAMP:20260425T164145
CREATED:20250122T112347Z
LAST-MODIFIED:20250122T112348Z
UID:3319-1739750400-1740268800@www.avantiscollege.nl
SUMMARY:VOORJAARSVAKANTIE
DESCRIPTION:
URL:https://www.avantiscollege.nl/gebeurtenis/voorjaarsvakantie/
END:VEVENT
BEGIN:VEVENT
DTSTART;TZID=Europe/Amsterdam:20250214T120000
DTEND;TZID=Europe/Amsterdam:20250214T120000
DTSTAMP:20260425T164145
CREATED:20250122T112611Z
LAST-MODIFIED:20250122T112611Z
UID:3355-1739534400-1739534400@www.avantiscollege.nl
SUMMARY:Vanaf 12.00 uur leerlingen vrij
DESCRIPTION:
URL:https://www.avantiscollege.nl/gebeurtenis/vanaf-12-00-uur-leerlingen-vrij/
END:VEVENT
BEGIN:VEVENT
DTSTART;TZID=Europe/Amsterdam:20250213T150000
DTEND;TZID=Europe/Amsterdam:20250213T160000
DTSTAMP:20260425T164145
CREATED:20250122T112611Z
LAST-MODIFIED:20250122T112611Z
UID:3354-1739458800-1739462400@www.avantiscollege.nl
SUMMARY:Lj 4 Inhalen toetsweek SE
DESCRIPTION:
URL:https://www.avantiscollege.nl/gebeurtenis/lj-4-inhalen-toetsweek-se/
END:VEVENT
BEGIN:VEVENT
DTSTART;TZID=Europe/Amsterdam:20250212T000000
DTEND;TZID=Europe/Amsterdam:20250212T000000
DTSTAMP:20260425T164145
CREATED:20250122T112348Z
LAST-MODIFIED:20250122T112348Z
UID:3322-1739318400-1739318400@www.avantiscollege.nl
SUMMARY:Start lessen volgens rooster
DESCRIPTION:
URL:https://www.avantiscollege.nl/gebeurtenis/start-lessen-volgens-rooster/
END:VEVENT
BEGIN:VEVENT
DTSTART;TZID=Europe/Amsterdam:20250210T080000
DTEND;TZID=Europe/Amsterdam:20250211T120000
DTSTAMP:20260425T164145
CREATED:20250122T112346Z
LAST-MODIFIED:20250122T112346Z
UID:3318-1739174400-1739275200@www.avantiscollege.nl
SUMMARY:Openingsactiviteit leerlingen Avantis College
DESCRIPTION:
URL:https://www.avantiscollege.nl/gebeurtenis/openingsactiviteit-leerlingen-avantis-college/
END:VEVENT
BEGIN:VEVENT
DTSTART;TZID=Europe/Amsterdam:20250210T000000
DTEND;TZID=Europe/Amsterdam:20250210T000000
DTSTAMP:20260425T164145
CREATED:20250122T112346Z
LAST-MODIFIED:20250122T112346Z
UID:3317-1739145600-1739145600@www.avantiscollege.nl
SUMMARY:ORGANISATIEDAG leerlingen vrij
DESCRIPTION:
URL:https://www.avantiscollege.nl/gebeurtenis/organisatiedag-leerlingen-vrij-2/
END:VEVENT
BEGIN:VEVENT
DTSTART;TZID=Europe/Amsterdam:20250207T000000
DTEND;TZID=Europe/Amsterdam:20250207T000000
DTSTAMP:20260425T164145
CREATED:20250122T112346Z
LAST-MODIFIED:20250122T112346Z
UID:3316-1738886400-1738886400@www.avantiscollege.nl
SUMMARY:ORGANISATIEDAG leerlingen vrij
DESCRIPTION:
URL:https://www.avantiscollege.nl/gebeurtenis/organisatiedag-leerlingen-vrij/
END:VEVENT
BEGIN:VEVENT
DTSTART;TZID=Europe/Amsterdam:20250203T000000
DTEND;TZID=Europe/Amsterdam:20250206T000000
DTSTAMP:20260425T164145
CREATED:20250122T112611Z
LAST-MODIFIED:20250122T112611Z
UID:3353-1738540800-1738800000@www.avantiscollege.nl
SUMMARY:Lj 4 Toetsweek SE
DESCRIPTION:
URL:https://www.avantiscollege.nl/gebeurtenis/lj-4-toetsweek-se/
END:VEVENT
BEGIN:VEVENT
DTSTART;TZID=Europe/Amsterdam:20250128T190000
DTEND;TZID=Europe/Amsterdam:20250128T210000
DTSTAMP:20260425T164145
CREATED:20250122T112611Z
LAST-MODIFIED:20250122T112611Z
UID:3352-1738090800-1738098000@www.avantiscollege.nl
SUMMARY:Lj 2 Profielkeuzeavond
DESCRIPTION:
URL:https://www.avantiscollege.nl/gebeurtenis/lj-2-profielkeuzeavond/
END:VEVENT
BEGIN:VEVENT
DTSTART;TZID=Europe/Amsterdam:20250127T141500
DTEND;TZID=Europe/Amsterdam:20250127T154500
DTSTAMP:20260425T164145
CREATED:20250122T112348Z
LAST-MODIFIED:20250122T112348Z
UID:3321-1737987300-1737992700@www.avantiscollege.nl
SUMMARY:DOE-middag groep 8
DESCRIPTION:
URL:https://www.avantiscollege.nl/gebeurtenis/doe-middag-groep-8-2/
END:VEVENT
BEGIN:VEVENT
DTSTART;TZID=Europe/Amsterdam:20250120T141500
DTEND;TZID=Europe/Amsterdam:20250120T154500
DTSTAMP:20260425T164145
CREATED:20250122T112348Z
LAST-MODIFIED:20250122T112348Z
UID:3320-1737382500-1737387900@www.avantiscollege.nl
SUMMARY:DOE-middag groep 8
DESCRIPTION:
URL:https://www.avantiscollege.nl/gebeurtenis/doe-middag-groep-8/
END:VEVENT
BEGIN:VEVENT
DTSTART;TZID=Europe/Amsterdam:20250113T000000
DTEND;TZID=Europe/Amsterdam:20250113T000000
DTSTAMP:20260425T164145
CREATED:20250122T112611Z
LAST-MODIFIED:20250122T112611Z
UID:3351-1736726400-1736726400@www.avantiscollege.nl
SUMMARY:Lj 1 Laatste bijeenkomst Rots en Water
DESCRIPTION:
URL:https://www.avantiscollege.nl/gebeurtenis/lj-1-laatste-bijeenkomst-rots-en-water/
END:VEVENT
BEGIN:VEVENT
DTSTART;TZID=Europe/Amsterdam:20250110T140000
DTEND;TZID=Europe/Amsterdam:20250110T160000
DTSTAMP:20260425T164145
CREATED:20250122T112611Z
LAST-MODIFIED:20250122T112611Z
UID:3350-1736517600-1736524800@www.avantiscollege.nl
SUMMARY:Lj 3 en 4 Herkansen PTA periode 1
DESCRIPTION:
URL:https://www.avantiscollege.nl/gebeurtenis/lj-3-en-4-herkansen-pta-periode-1/
END:VEVENT
BEGIN:VEVENT
DTSTART;TZID=Europe/Amsterdam:20250106T000000
DTEND;TZID=Europe/Amsterdam:20250106T230000
DTSTAMP:20260425T164145
CREATED:20250122T112611Z
LAST-MODIFIED:20250122T112611Z
UID:3349-1736121600-1736204400@www.avantiscollege.nl
SUMMARY:Start periode 2
DESCRIPTION:
URL:https://www.avantiscollege.nl/gebeurtenis/start-periode-2/
END:VEVENT
BEGIN:VEVENT
DTSTART;TZID=Europe/Amsterdam:20250106T000000
DTEND;TZID=Europe/Amsterdam:20250106T000000
DTSTAMP:20260425T164145
CREATED:20250122T112346Z
LAST-MODIFIED:20250122T112346Z
UID:3315-1736121600-1736121600@www.avantiscollege.nl
SUMMARY:STUDIEDAG leerlingen vrij
DESCRIPTION:
URL:https://www.avantiscollege.nl/gebeurtenis/studiedag-leerlingen-vrij/
END:VEVENT
BEGIN:VEVENT
DTSTART;TZID=Europe/Amsterdam:20241223T000000
DTEND;TZID=Europe/Amsterdam:20250105T000000
DTSTAMP:20260425T164145
CREATED:20250122T112346Z
LAST-MODIFIED:20250122T112346Z
UID:3314-1734912000-1736035200@www.avantiscollege.nl
SUMMARY:KERSTVAKANTIE
DESCRIPTION:
URL:https://www.avantiscollege.nl/gebeurtenis/kerstvakantie/
END:VEVENT
END:VCALENDAR