BEGIN:VCALENDAR
VERSION:2.0
PRODID:-//Avantis College - ECPv6.15.17.1//NONSGML v1.0//EN
CALSCALE:GREGORIAN
METHOD:PUBLISH
X-ORIGINAL-URL:https://www.avantiscollege.nl
X-WR-CALDESC:Evenementen voor Avantis College
REFRESH-INTERVAL;VALUE=DURATION:PT1H
X-Robots-Tag:noindex
X-PUBLISHED-TTL:PT1H
BEGIN:VTIMEZONE
TZID:Europe/Amsterdam
BEGIN:DAYLIGHT
TZOFFSETFROM:+0100
TZOFFSETTO:+0200
TZNAME:CEST
DTSTART:20240331T010000
END:DAYLIGHT
BEGIN:STANDARD
TZOFFSETFROM:+0200
TZOFFSETTO:+0100
TZNAME:CET
DTSTART:20241027T010000
END:STANDARD
BEGIN:DAYLIGHT
TZOFFSETFROM:+0100
TZOFFSETTO:+0200
TZNAME:CEST
DTSTART:20250330T010000
END:DAYLIGHT
BEGIN:STANDARD
TZOFFSETFROM:+0200
TZOFFSETTO:+0100
TZNAME:CET
DTSTART:20251026T010000
END:STANDARD
BEGIN:DAYLIGHT
TZOFFSETFROM:+0100
TZOFFSETTO:+0200
TZNAME:CEST
DTSTART:20260329T010000
END:DAYLIGHT
BEGIN:STANDARD
TZOFFSETFROM:+0200
TZOFFSETTO:+0100
TZNAME:CET
DTSTART:20261025T010000
END:STANDARD
END:VTIMEZONE
BEGIN:VEVENT
DTSTART;TZID=Europe/Amsterdam:20250401T140000
DTEND;TZID=Europe/Amsterdam:20250401T160000
DTSTAMP:20260425T173842
CREATED:20250122T112624Z
LAST-MODIFIED:20250122T112624Z
UID:3365-1743516000-1743523200@www.avantiscollege.nl
SUMMARY:Lj 1 t/m 4 Inhalen toetsen
DESCRIPTION:
URL:https://www.avantiscollege.nl/gebeurtenis/lj-1-t-m-4-inhalen-toetsen/
END:VEVENT
BEGIN:VEVENT
DTSTART;TZID=Europe/Amsterdam:20250404T000000
DTEND;TZID=Europe/Amsterdam:20250404T000000
DTSTAMP:20260425T173842
CREATED:20250122T112624Z
LAST-MODIFIED:20250122T112624Z
UID:3364-1743724800-1743724800@www.avantiscollege.nl
SUMMARY:Lj 1 t/m 3 Projectdagen
DESCRIPTION:
URL:https://www.avantiscollege.nl/gebeurtenis/lj-1-t-m-3-projectdagen/
END:VEVENT
BEGIN:VEVENT
DTSTART;TZID=Europe/Amsterdam:20250404T130000
DTEND;TZID=Europe/Amsterdam:20250404T160000
DTSTAMP:20260425T173842
CREATED:20250122T112624Z
LAST-MODIFIED:20250122T112624Z
UID:3366-1743771600-1743782400@www.avantiscollege.nl
SUMMARY:Lj 4 Herkansen PTA periode2
DESCRIPTION:
URL:https://www.avantiscollege.nl/gebeurtenis/lj-4-herkansen-pta-periode2/
END:VEVENT
BEGIN:VEVENT
DTSTART;TZID=Europe/Amsterdam:20250414T150000
DTEND;TZID=Europe/Amsterdam:20250414T180000
DTSTAMP:20260425T173842
CREATED:20250122T112624Z
LAST-MODIFIED:20250122T112624Z
UID:3367-1744642800-1744653600@www.avantiscollege.nl
SUMMARY:Lj 1 t/m 3 OCA
DESCRIPTION:
URL:https://www.avantiscollege.nl/gebeurtenis/lj-1-t-m-3-oca/
END:VEVENT
BEGIN:VEVENT
DTSTART;TZID=Europe/Amsterdam:20250415T000000
DTEND;TZID=Europe/Amsterdam:20250415T000000
DTSTAMP:20260425T173842
CREATED:20250122T112540Z
LAST-MODIFIED:20250122T112540Z
UID:3338-1744675200-1744675200@www.avantiscollege.nl
SUMMARY:Inschrijdag nieuwe brugklassers
DESCRIPTION:
URL:https://www.avantiscollege.nl/gebeurtenis/inschrijdag-nieuwe-brugklassers/
END:VEVENT
BEGIN:VEVENT
DTSTART;TZID=Europe/Amsterdam:20250415T143000
DTEND;TZID=Europe/Amsterdam:20250415T200000
DTSTAMP:20260425T173842
CREATED:20250122T112624Z
LAST-MODIFIED:20250122T112624Z
UID:3368-1744727400-1744747200@www.avantiscollege.nl
SUMMARY:Lj 1 t/m 3 OCA
DESCRIPTION:
URL:https://www.avantiscollege.nl/gebeurtenis/lj-1-t-m-3-oca-2/
END:VEVENT
BEGIN:VEVENT
DTSTART;TZID=Europe/Amsterdam:20250416T000000
DTEND;TZID=Europe/Amsterdam:20250416T000000
DTSTAMP:20260425T173842
CREATED:20250122T112630Z
LAST-MODIFIED:20250122T112630Z
UID:3369-1744761600-1744761600@www.avantiscollege.nl
SUMMARY:Lj 4 Tekenen akkoordverklaringen
DESCRIPTION:
URL:https://www.avantiscollege.nl/gebeurtenis/lj-4-tekenen-akkoordverklaringen/
END:VEVENT
BEGIN:VEVENT
DTSTART;TZID=Europe/Amsterdam:20250417T200000
DTEND;TZID=Europe/Amsterdam:20250417T230000
DTSTAMP:20260425T173842
CREATED:20250122T112631Z
LAST-MODIFIED:20250122T112631Z
UID:3370-1744920000-1744930800@www.avantiscollege.nl
SUMMARY:Lj 4 Examengala
DESCRIPTION:
URL:https://www.avantiscollege.nl/gebeurtenis/lj-4-examengala/
END:VEVENT
BEGIN:VEVENT
DTSTART;TZID=Europe/Amsterdam:20250418T000000
DTEND;TZID=Europe/Amsterdam:20250418T000000
DTSTAMP:20260425T173842
CREATED:20250122T112550Z
LAST-MODIFIED:20250122T112550Z
UID:3339-1744934400-1744934400@www.avantiscollege.nl
SUMMARY:GOEDE VRIJDAG school gesloten
DESCRIPTION:
URL:https://www.avantiscollege.nl/gebeurtenis/goede-vrijdag-school-gesloten/
END:VEVENT
BEGIN:VEVENT
DTSTART;TZID=Europe/Amsterdam:20250421T000000
DTEND;TZID=Europe/Amsterdam:20250502T000000
DTSTAMP:20260425T173842
CREATED:20250122T112550Z
LAST-MODIFIED:20250122T112550Z
UID:3340-1745193600-1746144000@www.avantiscollege.nl
SUMMARY:MEIVAKANTIE
DESCRIPTION:
URL:https://www.avantiscollege.nl/gebeurtenis/meivakantie/
END:VEVENT
END:VCALENDAR