BEGIN:VCALENDAR
VERSION:2.0
PRODID:-//Avantis College - ECPv6.15.17.1//NONSGML v1.0//EN
CALSCALE:GREGORIAN
METHOD:PUBLISH
X-ORIGINAL-URL:https://www.avantiscollege.nl
X-WR-CALDESC:Evenementen voor Avantis College
REFRESH-INTERVAL;VALUE=DURATION:PT1H
X-Robots-Tag:noindex
X-PUBLISHED-TTL:PT1H
BEGIN:VTIMEZONE
TZID:Europe/Amsterdam
BEGIN:DAYLIGHT
TZOFFSETFROM:+0100
TZOFFSETTO:+0200
TZNAME:CEST
DTSTART:20240331T010000
END:DAYLIGHT
BEGIN:STANDARD
TZOFFSETFROM:+0200
TZOFFSETTO:+0100
TZNAME:CET
DTSTART:20241027T010000
END:STANDARD
BEGIN:DAYLIGHT
TZOFFSETFROM:+0100
TZOFFSETTO:+0200
TZNAME:CEST
DTSTART:20250330T010000
END:DAYLIGHT
BEGIN:STANDARD
TZOFFSETFROM:+0200
TZOFFSETTO:+0100
TZNAME:CET
DTSTART:20251026T010000
END:STANDARD
BEGIN:DAYLIGHT
TZOFFSETFROM:+0100
TZOFFSETTO:+0200
TZNAME:CEST
DTSTART:20260329T010000
END:DAYLIGHT
BEGIN:STANDARD
TZOFFSETFROM:+0200
TZOFFSETTO:+0100
TZNAME:CET
DTSTART:20261025T010000
END:STANDARD
END:VTIMEZONE
BEGIN:VEVENT
DTSTART;TZID=Europe/Amsterdam:20250606T000000
DTEND;TZID=Europe/Amsterdam:20250606T000000
DTSTAMP:20260425T141652
CREATED:20250122T112636Z
LAST-MODIFIED:20250122T112636Z
UID:3377-1749168000-1749168000@www.avantiscollege.nl
SUMMARY:CSPE basis\, kader en GTL
DESCRIPTION:
URL:https://www.avantiscollege.nl/gebeurtenis/cspe-basis-kader-en-gtl/
END:VEVENT
BEGIN:VEVENT
DTSTART;TZID=Europe/Amsterdam:20250609T000000
DTEND;TZID=Europe/Amsterdam:20250609T000000
DTSTAMP:20260425T141652
CREATED:20250122T112600Z
LAST-MODIFIED:20250122T112600Z
UID:3344-1749427200-1749427200@www.avantiscollege.nl
SUMMARY:TWEEDE PINKSTERDAG
DESCRIPTION:
URL:https://www.avantiscollege.nl/gebeurtenis/tweede-pinksterdag/
END:VEVENT
BEGIN:VEVENT
DTSTART;TZID=Europe/Amsterdam:20250612T000000
DTEND;TZID=Europe/Amsterdam:20250612T000000
DTSTAMP:20260425T141652
CREATED:20250122T112656Z
LAST-MODIFIED:20250122T112656Z
UID:3384-1749686400-1749686400@www.avantiscollege.nl
SUMMARY:Uitslag examens
DESCRIPTION:
URL:https://www.avantiscollege.nl/gebeurtenis/uitslag-examens/
END:VEVENT
BEGIN:VEVENT
DTSTART;TZID=Europe/Amsterdam:20250619T190000
DTEND;TZID=Europe/Amsterdam:20250619T220000
DTSTAMP:20260425T141652
CREATED:20250122T112600Z
LAST-MODIFIED:20250122T112600Z
UID:3345-1750359600-1750370400@www.avantiscollege.nl
SUMMARY:Avantis on Stage
DESCRIPTION:
URL:https://www.avantiscollege.nl/gebeurtenis/avantis-on-stage/
END:VEVENT
BEGIN:VEVENT
DTSTART;TZID=Europe/Amsterdam:20250620T000000
DTEND;TZID=Europe/Amsterdam:20250620T000000
DTSTAMP:20260425T141652
CREATED:20250122T112656Z
LAST-MODIFIED:20250122T112656Z
UID:3386-1750377600-1750377600@www.avantiscollege.nl
SUMMARY:Dag van de Bouw
DESCRIPTION:
URL:https://www.avantiscollege.nl/gebeurtenis/dag-van-de-bouw/
END:VEVENT
BEGIN:VEVENT
DTSTART;TZID=Europe/Amsterdam:20250626T000000
DTEND;TZID=Europe/Amsterdam:20250626T000000
DTSTAMP:20260425T141652
CREATED:20250122T112656Z
LAST-MODIFIED:20250122T112656Z
UID:3385-1750896000-1750896000@www.avantiscollege.nl
SUMMARY:Herkansingen CE en CSPE
DESCRIPTION:
URL:https://www.avantiscollege.nl/gebeurtenis/herkansingen-ce-en-cspe/
END:VEVENT
BEGIN:VEVENT
DTSTART;TZID=Europe/Amsterdam:20250627T000000
DTEND;TZID=Europe/Amsterdam:20250627T000000
DTSTAMP:20260425T141652
CREATED:20250122T112656Z
LAST-MODIFIED:20250122T112656Z
UID:3387-1750982400-1750982400@www.avantiscollege.nl
SUMMARY:Lj 1 t/m 3 toetsweek
DESCRIPTION:
URL:https://www.avantiscollege.nl/gebeurtenis/lj-1-t-m-3-toetsweek/
END:VEVENT
BEGIN:VEVENT
DTSTART;TZID=Europe/Amsterdam:20250627T140000
DTEND;TZID=Europe/Amsterdam:20250627T150000
DTSTAMP:20260425T141652
CREATED:20250122T112656Z
LAST-MODIFIED:20250122T112656Z
UID:3388-1751032800-1751036400@www.avantiscollege.nl
SUMMARY:Lj 1 t/m 3 Inhalen toetsen
DESCRIPTION:
URL:https://www.avantiscollege.nl/gebeurtenis/lj-1-t-m-3-inhalen-toetsen/
END:VEVENT
END:VCALENDAR