BEGIN:VCALENDAR
VERSION:2.0
PRODID:-//Avantis College - ECPv6.15.17.1//NONSGML v1.0//EN
CALSCALE:GREGORIAN
METHOD:PUBLISH
X-ORIGINAL-URL:https://www.avantiscollege.nl
X-WR-CALDESC:Evenementen voor Avantis College
REFRESH-INTERVAL;VALUE=DURATION:PT1H
X-Robots-Tag:noindex
X-PUBLISHED-TTL:PT1H
BEGIN:VTIMEZONE
TZID:Europe/Amsterdam
BEGIN:DAYLIGHT
TZOFFSETFROM:+0100
TZOFFSETTO:+0200
TZNAME:CEST
DTSTART:20240331T010000
END:DAYLIGHT
BEGIN:STANDARD
TZOFFSETFROM:+0200
TZOFFSETTO:+0100
TZNAME:CET
DTSTART:20241027T010000
END:STANDARD
BEGIN:DAYLIGHT
TZOFFSETFROM:+0100
TZOFFSETTO:+0200
TZNAME:CEST
DTSTART:20250330T010000
END:DAYLIGHT
BEGIN:STANDARD
TZOFFSETFROM:+0200
TZOFFSETTO:+0100
TZNAME:CET
DTSTART:20251026T010000
END:STANDARD
BEGIN:DAYLIGHT
TZOFFSETFROM:+0100
TZOFFSETTO:+0200
TZNAME:CEST
DTSTART:20260329T010000
END:DAYLIGHT
BEGIN:STANDARD
TZOFFSETFROM:+0200
TZOFFSETTO:+0100
TZNAME:CET
DTSTART:20261025T010000
END:STANDARD
END:VTIMEZONE
BEGIN:VEVENT
DTSTART;TZID=Europe/Amsterdam:20250704T120000
DTEND;TZID=Europe/Amsterdam:20250704T120000
DTSTAMP:20260425T124705
CREATED:20250122T112736Z
LAST-MODIFIED:20250122T112736Z
UID:3390-1751630400-1751630400@www.avantiscollege.nl
SUMMARY:Vanaf 12.00 uur leerlingen vrij
DESCRIPTION:
URL:https://www.avantiscollege.nl/gebeurtenis/vanaf-12-00-uur-leerlingen-vrij-3/
END:VEVENT
BEGIN:VEVENT
DTSTART;TZID=Europe/Amsterdam:20250707T000000
DTEND;TZID=Europe/Amsterdam:20250707T000000
DTSTAMP:20260425T124705
CREATED:20250122T112736Z
LAST-MODIFIED:20250122T112736Z
UID:3389-1751846400-1751846400@www.avantiscollege.nl
SUMMARY:Lj 1 t/m 3 Projectdagen
DESCRIPTION:
URL:https://www.avantiscollege.nl/gebeurtenis/lj-1-t-m-3-projectdagen-2/
END:VEVENT
BEGIN:VEVENT
DTSTART;TZID=Europe/Amsterdam:20250708T000000
DTEND;TZID=Europe/Amsterdam:20250708T000000
DTSTAMP:20260425T124705
CREATED:20250122T112736Z
LAST-MODIFIED:20250122T112736Z
UID:3391-1751932800-1751932800@www.avantiscollege.nl
SUMMARY:ORGANISATIEDAG leerlingen vrij
DESCRIPTION:
URL:https://www.avantiscollege.nl/gebeurtenis/organisatiedag-leerlingen-vrij-4/
END:VEVENT
BEGIN:VEVENT
DTSTART;TZID=Europe/Amsterdam:20250708T183000
DTEND;TZID=Europe/Amsterdam:20250708T210000
DTSTAMP:20260425T124705
CREATED:20250122T112736Z
LAST-MODIFIED:20250122T112736Z
UID:3392-1751999400-1752008400@www.avantiscollege.nl
SUMMARY:Diploma uitreiking
DESCRIPTION:
URL:https://www.avantiscollege.nl/gebeurtenis/diploma-uitreiking/
END:VEVENT
BEGIN:VEVENT
DTSTART;TZID=Europe/Amsterdam:20250709T090000
DTEND;TZID=Europe/Amsterdam:20250709T120000
DTSTAMP:20260425T124705
CREATED:20250122T112736Z
LAST-MODIFIED:20250122T112736Z
UID:3393-1752051600-1752062400@www.avantiscollege.nl
SUMMARY:Lj 3 Herkansen PTA
DESCRIPTION:
URL:https://www.avantiscollege.nl/gebeurtenis/lj-3-herkansen-pta/
END:VEVENT
BEGIN:VEVENT
DTSTART;TZID=Europe/Amsterdam:20250710T130000
DTEND;TZID=Europe/Amsterdam:20250710T190000
DTSTAMP:20260425T124705
CREATED:20250122T112601Z
LAST-MODIFIED:20250122T112601Z
UID:3346-1752152400-1752174000@www.avantiscollege.nl
SUMMARY:Personeelsactiviteit
DESCRIPTION:
URL:https://www.avantiscollege.nl/gebeurtenis/personeelsactiviteit/
END:VEVENT
BEGIN:VEVENT
DTSTART;TZID=Europe/Amsterdam:20250714T000000
DTEND;TZID=Europe/Amsterdam:20250822T000000
DTSTAMP:20260425T124705
CREATED:20250122T112601Z
LAST-MODIFIED:20250122T112601Z
UID:3347-1752451200-1755820800@www.avantiscollege.nl
SUMMARY:ZOMERVAKANTIE 14 juli t/m 22 augustus
DESCRIPTION:
URL:https://www.avantiscollege.nl/gebeurtenis/zomervakantie-14-juli-t-m-22-augustus/
END:VEVENT
END:VCALENDAR