BEGIN:VCALENDAR
VERSION:2.0
PRODID:-//Avantis College - ECPv6.15.17.1//NONSGML v1.0//EN
CALSCALE:GREGORIAN
METHOD:PUBLISH
X-WR-CALNAME:Avantis College
X-ORIGINAL-URL:https://www.avantiscollege.nl
X-WR-CALDESC:Evenementen voor Avantis College
REFRESH-INTERVAL;VALUE=DURATION:PT1H
X-Robots-Tag:noindex
X-PUBLISHED-TTL:PT1H
BEGIN:VTIMEZONE
TZID:Europe/Amsterdam
BEGIN:DAYLIGHT
TZOFFSETFROM:+0100
TZOFFSETTO:+0200
TZNAME:CEST
DTSTART:20240331T010000
END:DAYLIGHT
BEGIN:STANDARD
TZOFFSETFROM:+0200
TZOFFSETTO:+0100
TZNAME:CET
DTSTART:20241027T010000
END:STANDARD
BEGIN:DAYLIGHT
TZOFFSETFROM:+0100
TZOFFSETTO:+0200
TZNAME:CEST
DTSTART:20250330T010000
END:DAYLIGHT
BEGIN:STANDARD
TZOFFSETFROM:+0200
TZOFFSETTO:+0100
TZNAME:CET
DTSTART:20251026T010000
END:STANDARD
BEGIN:DAYLIGHT
TZOFFSETFROM:+0100
TZOFFSETTO:+0200
TZNAME:CEST
DTSTART:20260329T010000
END:DAYLIGHT
BEGIN:STANDARD
TZOFFSETFROM:+0200
TZOFFSETTO:+0100
TZNAME:CET
DTSTART:20261025T010000
END:STANDARD
END:VTIMEZONE
BEGIN:VEVENT
DTSTART;TZID=Europe/Amsterdam:20251111T141000
DTEND;TZID=Europe/Amsterdam:20251111T143000
DTSTAMP:20260425T061239
CREATED:20251104T103136Z
LAST-MODIFIED:20251104T103136Z
UID:4188-1762870200-1762871400@www.avantiscollege.nl
SUMMARY:Aftrap Projectweek
DESCRIPTION:
URL:https://www.avantiscollege.nl/gebeurtenis/aftrap-projectweek/
END:VEVENT
BEGIN:VEVENT
DTSTART;TZID=Europe/Amsterdam:20251118T080000
DTEND;TZID=Europe/Amsterdam:20251118T170000
DTSTAMP:20260425T061239
CREATED:20251104T102822Z
LAST-MODIFIED:20251104T102924Z
UID:4184-1763452800-1763485200@www.avantiscollege.nl
SUMMARY:Studiedag
DESCRIPTION:Studiedag
URL:https://www.avantiscollege.nl/gebeurtenis/4184/
LOCATION:Avantis College
END:VEVENT
BEGIN:VEVENT
DTSTART;VALUE=DATE:20251124
DTEND;VALUE=DATE:20251125
DTSTAMP:20260425T061239
CREATED:20251104T103322Z
LAST-MODIFIED:20251104T103657Z
UID:4191-1763942400-1764028799@www.avantiscollege.nl
SUMMARY:AVANTIS WEEK VMBO Projectweek onderbouw en ISK Toets en Projectdagen leerjaar 3 Tweede SE-week leerjaar 4
DESCRIPTION:
URL:https://www.avantiscollege.nl/gebeurtenis/avantis-week-vmbo-projectweek-onderbouw-isk-toets-en-projectdagen-leerjaar-3/
END:VEVENT
BEGIN:VEVENT
DTSTART;VALUE=DATE:20251128
DTEND;VALUE=DATE:20251129
DTSTAMP:20260425T061239
CREATED:20251104T103423Z
LAST-MODIFIED:20251104T103423Z
UID:4193-1764288000-1764374399@www.avantiscollege.nl
SUMMARY:Inhalen Leerjaar 4
DESCRIPTION:
URL:https://www.avantiscollege.nl/gebeurtenis/inhalen-leerjaar-4/
END:VEVENT
END:VCALENDAR