BEGIN:VCALENDAR
VERSION:2.0
PRODID:-//Avantis College - ECPv6.15.17.1//NONSGML v1.0//EN
CALSCALE:GREGORIAN
METHOD:PUBLISH
X-ORIGINAL-URL:https://www.avantiscollege.nl
X-WR-CALDESC:Evenementen voor Avantis College
REFRESH-INTERVAL;VALUE=DURATION:PT1H
X-Robots-Tag:noindex
X-PUBLISHED-TTL:PT1H
BEGIN:VTIMEZONE
TZID:Europe/Amsterdam
BEGIN:DAYLIGHT
TZOFFSETFROM:+0100
TZOFFSETTO:+0200
TZNAME:CEST
DTSTART:20240331T010000
END:DAYLIGHT
BEGIN:STANDARD
TZOFFSETFROM:+0200
TZOFFSETTO:+0100
TZNAME:CET
DTSTART:20241027T010000
END:STANDARD
BEGIN:DAYLIGHT
TZOFFSETFROM:+0100
TZOFFSETTO:+0200
TZNAME:CEST
DTSTART:20250330T010000
END:DAYLIGHT
BEGIN:STANDARD
TZOFFSETFROM:+0200
TZOFFSETTO:+0100
TZNAME:CET
DTSTART:20251026T010000
END:STANDARD
BEGIN:DAYLIGHT
TZOFFSETFROM:+0100
TZOFFSETTO:+0200
TZNAME:CEST
DTSTART:20260329T010000
END:DAYLIGHT
BEGIN:STANDARD
TZOFFSETFROM:+0200
TZOFFSETTO:+0100
TZNAME:CET
DTSTART:20261025T010000
END:STANDARD
BEGIN:DAYLIGHT
TZOFFSETFROM:+0100
TZOFFSETTO:+0200
TZNAME:CEST
DTSTART:20270328T010000
END:DAYLIGHT
BEGIN:STANDARD
TZOFFSETFROM:+0200
TZOFFSETTO:+0100
TZNAME:CET
DTSTART:20271031T010000
END:STANDARD
END:VTIMEZONE
BEGIN:VEVENT
DTSTART;VALUE=DATE:20251201
DTEND;VALUE=DATE:20251202
DTSTAMP:20260425T043559
CREATED:20251104T103901Z
LAST-MODIFIED:20251104T103915Z
UID:4197-1764547200-1764633599@www.avantiscollege.nl
SUMMARY:Stage leerjaar 4 1 dec t/m 12 dec
DESCRIPTION:
URL:https://www.avantiscollege.nl/gebeurtenis/stage-leerjaar-4-1-dec-t-m-12-dec/
END:VEVENT
BEGIN:VEVENT
DTSTART;VALUE=DATE:20251205
DTEND;VALUE=DATE:20251206
DTSTAMP:20260425T043559
CREATED:20251104T104002Z
LAST-MODIFIED:20251104T104002Z
UID:4199-1764892800-1764979199@www.avantiscollege.nl
SUMMARY:Inhalen leerjaar 3
DESCRIPTION:
URL:https://www.avantiscollege.nl/gebeurtenis/inhalen-leerjaar-3/
END:VEVENT
BEGIN:VEVENT
DTSTART;VALUE=DATE:20251209
DTEND;VALUE=DATE:20251210
DTSTAMP:20260425T043559
CREATED:20251104T104047Z
LAST-MODIFIED:20251104T104047Z
UID:4202-1765238400-1765324799@www.avantiscollege.nl
SUMMARY:Activiteitendag leerjaar 1-2-3 excursie
DESCRIPTION:
URL:https://www.avantiscollege.nl/gebeurtenis/activiteitendag-leerjaar-1-2-3-excursie/
END:VEVENT
BEGIN:VEVENT
DTSTART;TZID=Europe/Amsterdam:20251215T160000
DTEND;TZID=Europe/Amsterdam:20251215T180000
DTSTAMP:20260425T043559
CREATED:20251104T104210Z
LAST-MODIFIED:20251104T104210Z
UID:4206-1765814400-1765821600@www.avantiscollege.nl
SUMMARY:driehoeksgesprekken leerjaar 1-2-3-4
DESCRIPTION:
URL:https://www.avantiscollege.nl/gebeurtenis/driehoeksgesprekken-leerjaar-1-2-3-4/
END:VEVENT
BEGIN:VEVENT
DTSTART;TZID=Europe/Amsterdam:20251216T143000
DTEND;TZID=Europe/Amsterdam:20251216T200000
DTSTAMP:20260425T043559
CREATED:20251104T104257Z
LAST-MODIFIED:20251104T104257Z
UID:4209-1765895400-1765915200@www.avantiscollege.nl
SUMMARY:driehoeksgesprekken leerjaar 1-2-3-4
DESCRIPTION:
URL:https://www.avantiscollege.nl/gebeurtenis/driehoeksgesprekken-leerjaar-1-2-3-4-2/
END:VEVENT
BEGIN:VEVENT
DTSTART;TZID=Europe/Amsterdam:20251217T080000
DTEND;TZID=Europe/Amsterdam:20251217T170000
DTSTAMP:20260425T043559
CREATED:20251104T104336Z
LAST-MODIFIED:20251104T104336Z
UID:4212-1765958400-1765990800@www.avantiscollege.nl
SUMMARY:Herkansingen leerjaar 4 - tijden volgen nog
DESCRIPTION:
URL:https://www.avantiscollege.nl/gebeurtenis/herkansingen-leerjaar-4-tijden-volgen-nog/
END:VEVENT
BEGIN:VEVENT
DTSTART;TZID=Europe/Amsterdam:20251217T160000
DTEND;TZID=Europe/Amsterdam:20251217T180000
DTSTAMP:20260425T043559
CREATED:20251104T104429Z
LAST-MODIFIED:20251104T104429Z
UID:4214-1765987200-1765994400@www.avantiscollege.nl
SUMMARY:driehoeksgesprekken leerjaar 1-2-3-4
DESCRIPTION:
URL:https://www.avantiscollege.nl/gebeurtenis/driehoeksgesprekken-leerjaar-1-2-3-4-3/
END:VEVENT
BEGIN:VEVENT
DTSTART;TZID=Europe/Amsterdam:20251219T083000
DTEND;TZID=Europe/Amsterdam:20251219T120000
DTSTAMP:20260425T043559
CREATED:20251104T104510Z
LAST-MODIFIED:20251104T104510Z
UID:4217-1766133000-1766145600@www.avantiscollege.nl
SUMMARY:Kerstactiviteiten
DESCRIPTION:
URL:https://www.avantiscollege.nl/gebeurtenis/kerstactiviteiten/
END:VEVENT
BEGIN:VEVENT
DTSTART;VALUE=DATE:20251222
DTEND;VALUE=DATE:20260105
DTSTAMP:20260425T043559
CREATED:20251104T104709Z
LAST-MODIFIED:20251104T104709Z
UID:4220-1766361600-1767571199@www.avantiscollege.nl
SUMMARY:Kerstvakantie  tm 4 januari
DESCRIPTION:
URL:https://www.avantiscollege.nl/gebeurtenis/kerstvakantie-tm-4-januari/
END:VEVENT
END:VCALENDAR